Workbook
Name ГП_ВО_ОЭТС_ФСК: #REF!
Name ГП_ВО_ОЭТС_ФСК_М: #REF!

Sheet 2017 (план-факт)
E1: Приложение 2
E2: к приказу Федеральной службы по тарифам
E3: от 24 октября 2014 г. № 1831-э
A5: Форма раскрытия информации о структуре и объемах затрат
A6: на оказание услуг по передаче электрической энергии сетевыми
A7: организациями, регулирование деятельности которых осуществляется
A8: методом долгосрочной индексации необходимой валовой выручки
B10: Наименование организации: | D10: МУП "Грязовецкие электросети"
B11: ИНН: | C11: 3509011794
B12: КПП: | C12: 350901001
B13: Долгосрочный период регулирования: 2015-2019 | D13: гг.
A15: № п/п | C15: Показатель | D15: Ед. изм. | E15: 2017 | G15: Примечание ***
E16: план * | F16: факт **
A17: I | C17: Структура затрат
A18: 1 | C18: Необходимая валовая выручка на содержание | D18: тыс. руб. | E18: 17935.33 | F18: =[1]долгосрочн.параметры!$D$39+F47 -> 14558.186
A19: 1.1 | C19: Подконтрольные расходы, всего | D19: тыс. руб. | E19: 12490.01 | F19: =[1]долгосрочн.параметры!$D$16 -> 11880.755 | H19: =F19-F20-F25-F27-F31-F32 -> 0
A20: 1.1.1 | C20: Материальные расходы, всего | D20: тыс. руб. | E20: =SUM(E21:E23) -> 2361.3 | F20: =SUM(F21:F23) -> 782.60434 | H20: =F20-F21-F22-F23 -> 0
A21: 1.1.1.1 | C21: в том числе на сырье, материалы, запасные части, инструмент, топливо | D21: тыс. руб. | E21: 1530.55 | F21: =[1]долгосрочн.параметры!$D$5 -> 330.2325
A22: 1.1.1.2 | C22: на ремонт | D22: тыс. руб. | E22: 799.52 | F22: =[1]долгосрочн.параметры!$D$7 -> 400.09405
A23: 1.1.1.3 | C23: в том числе на работы и услуги производственного характера (в том числе услуги сторонних организаций по содержанию сетей и распределительных устройств) | D23: тыс. руб. | E23: 31.23 | F23: =[1]долгосрочн.параметры!$D$8 -> 52.27779
A24: 1.1.1.3.1 | C24: в том числе на ремонт | D24: тыс. руб.
A25: 1.1.2 | C25: Фонд оплаты труда | D25: тыс. руб. | E25: 9271.66 | F25: ='[1]ПЛАН-2017'!$CD$112 -> 5655.2522
A26: 1.1.2.1 | C26: в том числе на ремонт | D26: тыс. руб. | E26: 3245.081 | F26: 1979.3383
A27: 1.1.3 | C27: Прочие подконтрольные расходы (с расшифровкой) | D27: тыс. руб. | E27: =E19-E20-E25-E32 -> 825.265 | F27: =F19-F20-F25-F32 -> 688.42436
A28: 1.1.3.1 | C28: в том числе прибыль на социальное развитие (включая социальные выплаты) | D28: тыс. руб. | E28: 463.583 | F28: =[1]долгосрочн.параметры!$D$13 -> 54.833
A29: 1.1.3.2 | C29: в том числе транспортные услуги | D29: тыс. руб.
A30: 1.1.3.3 | C30: в том числе прочие расходы (с расшифровкой)**** | D30: тыс. руб.
A31: 1.1.4 | C31: Расходы на обслуживание операционных заемных средств в составе подконтрольных расходов | D31: тыс. руб.
A32: 1.1.5 | C32: Расходы из прибыли в составе подконтрольных расходов | D32: тыс. руб. | E32: 31.785 | F32: =[1]долгосрочн.параметры!$D$15 -> 4754.4737
A33: 1.2 | C33: Неподконтрольные расходы, включенные в НВВ, всего | D33: тыс. руб. | E33: =5778.14-E47 -> 4073.72 | F33: =[1]долгосрочн.параметры!$D$37-F47+F47 -> 2677.4318 | H33: =F33-F34-F35-F36-F37-F38-F39-F42-F46 -> 0
A34: 1.2.1 | C34: Оплата услуг ОАО "ФСК ЕЭС" | D34: тыс. руб.
A35: 1.2.2 | C35: Расходы на оплату технологического присоединения к сетям смежной сетевой организации | D35: тыс. руб.
A36: 1.2.3 | C36: Плата за аренду имущества | D36: тыс. руб. | E36: 10.8 | F36: ='[1]ПЛАН-2017'!$CD$96 -> 2.22154
A37: 1.2.4 | C37: отчисления на социальные нужды | D37: тыс. руб. | E37: 2800.04 | F37: ='[1]ПЛАН-2017'!$CD$113 -> 1727.2902
A38: 1.2.5 | C38: расходы на возврат и обслуживание долгосрочных заемных средств, направляемых на финансирование капитальных вложений | D38: тыс. руб.
A39: 1.2.6 | C39: амортизация | D39: тыс. руб. | E39: 783 | F39: ='[1]ПЛАН-2017'!$CD$42 -> 771.67318
A40: 1.2.7 | C40: прибыль на капитальные вложения | D40: тыс. руб.
A41: 1.2.8 | C41: налог на прибыль | D41: тыс. руб. | E41: 123.84 | F41: 0
A42: 1.2.9 | C42: прочие налоги | D42: тыс. руб. | E42: =267.85-E41 -> 144.01 | F42: ='[1]ПЛАН-2017'!$CD$114 -> 160.272
A43: 1.2.10 | C43: Расходы сетевой организации, связанные с осуществлением технологического присоединения к электрическим сетям, не включенные в плату за технологическое присоединение | D43: тыс. руб.
...

Sheet Лист1
